BEGIN:VCALENDAR
VERSION:2.0
PRODID:-//Pfalz Digital - ECPv6.15.20//NONSGML v1.0//EN
CALSCALE:GREGORIAN
METHOD:PUBLISH
X-WR-CALNAME:Pfalz Digital
X-ORIGINAL-URL:https://www.pfalzdigital.de
X-WR-CALDESC:Veranstaltungen für Pfalz Digital
REFRESH-INTERVAL;VALUE=DURATION:PT1H
X-Robots-Tag:noindex
X-PUBLISHED-TTL:PT1H
BEGIN:VTIMEZONE
TZID:Europe/Berlin
BEGIN:DAYLIGHT
TZOFFSETFROM:+0100
TZOFFSETTO:+0200
TZNAME:CEST
DTSTART:20240331T010000
END:DAYLIGHT
BEGIN:STANDARD
TZOFFSETFROM:+0200
TZOFFSETTO:+0100
TZNAME:CET
DTSTART:20241027T010000
END:STANDARD
BEGIN:DAYLIGHT
TZOFFSETFROM:+0100
TZOFFSETTO:+0200
TZNAME:CEST
DTSTART:20250330T010000
END:DAYLIGHT
BEGIN:STANDARD
TZOFFSETFROM:+0200
TZOFFSETTO:+0100
TZNAME:CET
DTSTART:20251026T010000
END:STANDARD
BEGIN:DAYLIGHT
TZOFFSETFROM:+0100
TZOFFSETTO:+0200
TZNAME:CEST
DTSTART:20260329T010000
END:DAYLIGHT
BEGIN:STANDARD
TZOFFSETFROM:+0200
TZOFFSETTO:+0100
TZNAME:CET
DTSTART:20261025T010000
END:STANDARD
END:VTIMEZONE
BEGIN:VEVENT
DTSTART;TZID=Europe/Berlin:20250704T190000
DTEND;TZID=Europe/Berlin:20250704T203000
DTSTAMP:20260423T045647
CREATED:20250612T061454Z
LAST-MODIFIED:20250612T061454Z
UID:118026-1751655600-1751661000@www.pfalzdigital.de
SUMMARY:DODS - AUF DEM ALTSTADTFEST IN KAISERSLAUTERN!
DESCRIPTION:DODS  – AUF DEM ALTSTADTFEST IN KAISERSLAUTERN!\nAm 04. Juli’ 2025 | von 19:00 Uhr bis 20:30 Uhr  | EINTRITT FREI! \nDen Auftakt macht DODS !!\n  \nDie Band DODS hat sich seit über einem Jahrzehnt dem deutschsprachigen Rock im schönen Südwesten Deutschlands verschrieben. Nach einigen Veränderungen und einer ruhigeren Selbstfindungsphase als „DOdS Acoustix“\, tun die Jungs nun wieder das\, was sie am besten können. Laut\, brachial und mit stets guter Laune. \nDurch den überregional bekannten „DOdS- Sound“ bieten die fünf Musiker ein facettenreiches Programm mit Einflüssen aus Pop\, Punk\, Hip-Hop\, Reggae und immer mal etwas Neuem. Der Schwerpunkt liegt dabei auf den eigenen deutschsprachigen Songs\, ergänzt durch ausgewählte Cover\, die sich nahtlos ins Set eingliedern. Es geht nicht vorrangig darum\, die Originale genau nachzuspielen\, sondern sie so klingen zu lassen\, wie man das von DOdS erwarten darf. \nNeben der klassischen Rockbesetzung mit Gesang\, zwei E-Gitarren\, Schlagzeug und Bass integriert DOdS elektronische Instrumente\, die der Musik eine zusätzliche Tiefe und ungeahnte Möglichkeiten bieten. Andre Greef (Gesang/Gitarre)\, Ben Herstein (Schlagzeug)\,  Tim Müller (Gitarre)\, Moritz\,  Mees (Bass) und Dane Pereira ( E-Drum\, Synthesizern und Samplepads) \nAm 05. Juli könnt ihr DODS ” LIVE” auf dem Altstadtfest erleben!  \nMehr Informationen unter: DODS \n  \n \nAltstadtfest 2025\nWenn die Altstadt zur riesigen Open-Air-Kneipe wird\, ist Feiern angesagt: Neben kulinarischen Spezialitäten gibt es Straßentheater\, Kunsthandwerk und jede Menge Musik auf vielen Live-Bühnen. \nKaiserslautern\, Altstadtfest.
URL:https://www.pfalzdigital.de/event/dods-auf-dem-altstadtfest-in-kaiserslautern/
LOCATION:Bühne Salzstraße | Klosterstr. 15 | Kaiserslautern\, 67655
CATEGORIES:Altstadtfest
ATTACH;FMTTYPE=image/jpeg:https://www.pfalzdigital.de/wp-content/uploads/2025/06/Woodland-5.jpg
END:VEVENT
BEGIN:VEVENT
DTSTART;TZID=Europe/Berlin:20250704T210000
DTEND;TZID=Europe/Berlin:20250704T230000
DTSTAMP:20260423T045647
CREATED:20250611T065158Z
LAST-MODIFIED:20250611T065158Z
UID:117978-1751662800-1751670000@www.pfalzdigital.de
SUMMARY:LIO | Altstadtfest
DESCRIPTION:„LIO“ – Die Rockband aus Kaiserslautern!  AUF DEM ALTSTADTFEST IN KAISERSLAUTERN!\nAm 04. Juli’ 2025 von 21:00 bis 23:00 Uhr | EINTRITT FREI! \n \nBand LIO bringt frischen Wind in die Lautrer Rockszene mit “Waiting For The Thunder” Cover \nWenn eine Band es schafft\, die Essenz des Rock’n’Roll einzufangen und ihr eine frische Note zu verleihen\, dann hat sie etwas richtig gemacht. Genau das ist LIO mit ihrem neuesten Live-Cover des Blackberry Smoke Klassikers “Waiting For The Thunder” gelungen. \nIm intimen Rahmen ihres Studios entstand eine Aufnahme\, die nicht nur die treibende Kraft des Originals widerspiegelt\, sondern auch die eigenständige musikalische Identität von LIO unterstreicht. auf www.lio-music.de findest Du alle anstehenden Konzerttermine und weitere Infos zur Band. \n. \nMehr Infos unter: LIO  \n  \n \nAltstadtfest 2025\nWenn die Altstadt zur riesigen Open-Air-Kneipe wird\, ist Feiern angesagt: Neben kulinarischen Spezialitäten gibt es Straßentheater\, Kunsthandwerk und jede Menge Musik auf vielen Live-Bühnen. \n\n\n \n\n\n\n  \n 
URL:https://www.pfalzdigital.de/event/lio-altstadtfest-3/
LOCATION:Bühne Salzstraße | Klosterstr. 15 | Kaiserslautern\, 67655
CATEGORIES:Altstadtfest,Live - Musik
ATTACH;FMTTYPE=image/png:https://www.pfalzdigital.de/wp-content/uploads/2023/06/Event-15-1.png
END:VEVENT
BEGIN:VEVENT
DTSTART;TZID=Europe/Berlin:20250705T130000
DTEND;TZID=Europe/Berlin:20250705T140000
DTSTAMP:20260423T045647
CREATED:20250611T070717Z
LAST-MODIFIED:20250611T070717Z
UID:117981-1751720400-1751724000@www.pfalzdigital.de
SUMMARY:QNA – Quite Nice Actually - AUF DEM ALTSTADTFEST IN KAISERSLAUTERN!
DESCRIPTION:QNA – Quite Nice Actually – AUF DEM ALTSTADTFEST IN KAISERSLAUTERN!\nAm 05. Juli’ 2025 | von 13:00 Uhr bis 14:00 Uhr  | EINTRITT FREI! \n  \nDas akustische Duo aus Kaiserslautern liefert einen Sound\, der irgendwo zwischen Wohnzimmerkonzert und Festivalbühne zuhause ist.\nGuy C und Mo haben eine Vorliebe für Indie\, Rock\, Pop und Punk. Ihre Songauswahl reicht von tiefgehend bis tanzbar. Ob akustisch oder elektrisch\, mit Gitarre\, Bass\, Saxofon oder Melodica – QNA spielen auf ihre Art alte und aktuelle Songs auf Englisch und manchmal (auch) auf Deutsch. \nMehr Informationen unter: QNA \n  \n \nAltstadtfest 2025\nWenn die Altstadt zur riesigen Open-Air-Kneipe wird\, ist Feiern angesagt: Neben kulinarischen Spezialitäten gibt es Straßentheater\, Kunsthandwerk und jede Menge Musik auf vielen Live-Bühnen. \nKaiserslautern\, Altstadtfest.
URL:https://www.pfalzdigital.de/event/qna-quite-nice-actually-auf-dem-altstadtfest-in-kaiserslautern/
LOCATION:Bühne Salzstraße | Klosterstr. 15 | Kaiserslautern\, 67655
CATEGORIES:Altstadtfest
ATTACH;FMTTYPE=image/jpeg:https://www.pfalzdigital.de/wp-content/uploads/2025/06/QNA-Altstadtfest.jpg
END:VEVENT
BEGIN:VEVENT
DTSTART;TZID=Europe/Berlin:20250705T143000
DTEND;TZID=Europe/Berlin:20250705T160000
DTSTAMP:20260423T045647
CREATED:20250611T095242Z
LAST-MODIFIED:20250611T095242Z
UID:117994-1751725800-1751731200@www.pfalzdigital.de
SUMMARY:Woodland - AUF DEM ALTSTADTFEST IN KAISERSLAUTERN!
DESCRIPTION:Woodland – Rock & Pop aus der Region –  AUF DEM ALTSTADTFEST IN KAISERSLAUTERN!\nAm 05. Juli’ 2024 | von 14:30 Uhr bis 16:00 Uhr  | EINTRITT FREI! \n  \nMit kraftvollem Sound und viel Spielfreude bringt Woodland frischen Wind auf die Bühne. Die Band rund um Anne Woller (Gesang)\, Lucas Weber (Bass)\, Sebastian Hoffmann (Drums) und Leonard Stahl (Gitarre) interpretiert Rock- und Pop-Klassiker ebenso wie moderne Hits auf ihre ganz eigene Weise. Wir freuen uns sehr\, Teil des Altstadtfests Kaiserslautern zu sein und mit euch gemeinsam zu feiern!  \nAm 05. Juli könnt ihr Woodland ” LIVE” auf dem Altstadtfest erleben!  \n  \n  \n \nAltstadtfest 2025\nWenn die Altstadt zur riesigen Open-Air-Kneipe wird\, ist Feiern angesagt: Neben kulinarischen Spezialitäten gibt es Straßentheater\, Kunsthandwerk und jede Menge Musik auf vielen Live-Bühnen. \nKaiserslautern\, Altstadtfest.
URL:https://www.pfalzdigital.de/event/woodland-auf-dem-altstadtfest-in-kaiserslautern/
LOCATION:Bühne Salzstraße | Klosterstr. 15 | Kaiserslautern\, 67655
CATEGORIES:Altstadtfest
ATTACH;FMTTYPE=image/jpeg:https://www.pfalzdigital.de/wp-content/uploads/2025/06/Woodland-2.jpg
END:VEVENT
BEGIN:VEVENT
DTSTART;TZID=Europe/Berlin:20250705T163000
DTEND;TZID=Europe/Berlin:20250705T181500
DTSTAMP:20260423T045647
CREATED:20250611T100611Z
LAST-MODIFIED:20250611T100611Z
UID:118000-1751733000-1751739300@www.pfalzdigital.de
SUMMARY:Moon Addicts - AUF DEM ALTSTADTFEST IN KAISERSLAUTERN!
DESCRIPTION:MOON ADDICTS  – SABRINA ZAPP UND CHRISTIAN  CONRAD  – AUF DEM ALTSTADTFEST IN KAISERSLAUTERN!\nAm 05. Juli’ 2025 | von 16:30 Uhr bis 18:15 Uhr  | EINTRITT FREI! \n  \nDer Nachmittag gehört Moon Addicts – Emotion trifft Gänsehaut:  Sabrina & Christian bringen bekannte Pop-Rock-Songs in ganz neuen Versionen auf die Bühne. \nMit gefühlvollem Gesang (Sabrina Zapp) und einfühlsamer Gitarrenbegleitung (Christian Conrad) erschafft das Duo emotionale\, mitreißende Momente – mal sanft\, mal treibend\, aber immer mit eigener Handschrift. Ob Klassiker wie Free Fallin’ oder moderne Storytelling-Songs wie How to Save a Life – Moon Addicts covern nicht einfach\, sie verwandeln Songs in ihre ganz persönliche Interpretation. Freut euch auf eine Stunde voller Musik\, die ins Herz geht – live und handgemacht! \nAm 05. Juli könnt ihr MOON ADDICTS  ” LIVE” auf dem Altstadtfest erleben!  \nMehr Informationen unter: MOON ADDICTS  \n  \n \nAltstadtfest 2025\nWenn die Altstadt zur riesigen Open-Air-Kneipe wird\, ist Feiern angesagt: Neben kulinarischen Spezialitäten gibt es Straßentheater\, Kunsthandwerk und jede Menge Musik auf vielen Live-Bühnen. \nKaiserslautern\, Altstadtfest.
URL:https://www.pfalzdigital.de/event/moon-addicts-auf-dem-altstadtfest-in-kaiserslautern/
LOCATION:Bühne Salzstraße | Klosterstr. 15 | Kaiserslautern\, 67655
CATEGORIES:Altstadtfest
ATTACH;FMTTYPE=image/jpeg:https://www.pfalzdigital.de/wp-content/uploads/2025/06/Woodland-4.jpg
END:VEVENT
BEGIN:VEVENT
DTSTART;TZID=Europe/Berlin:20250705T184500
DTEND;TZID=Europe/Berlin:20250705T203000
DTSTAMP:20260423T045647
CREATED:20250611T064141Z
LAST-MODIFIED:20250611T065320Z
UID:117974-1751741100-1751747400@www.pfalzdigital.de
SUMMARY:Crazy Heart Connection | Altstadtfest
DESCRIPTION:„CRAZY HEART CONNECTION“ AUF DEM ALTSTADTFEST IN KAISERSLAUTERN!\nAm 05. Juli’ 2025 | von 18:45 Uhr bis 20:30 Uhr  | EINTRITT FREI! \nCrazy Heart Connection \nCrazy Heart Connection – Creative Blues & Roots Music \nDie „Crazy Heart Connection“ steht für eigene\, authentische Blues & Roots Musik und betrachtet Musik als kreativen\, lebendigen Prozess mit ausreichend Raum für Improvisation  und Spontaneität.\nUrsprünglich als Duo gegründet hat sich die „Crazy Heart Connection“ im Laufe der Jahre zu einer kompletten Band mit Ihrem eigenen Stil zwischen Blues und Rock entwickelt. Die Musik nimmt Euch mit auf eine Reise ausgehend von langsamem\, atmosphärischem Blues über Bluesrock bis hin zu schnellem Rock mit psychedelischen Elementen und erzählt Geschichten von ausgedehnten Reisen\, Rastlosigkeit und langen\, blueslastigen Mitternachtsstunden.\nZusammen mit Daniela Eger am Gesang\, Sascha Giro an der Gitarre\, Max Paul an Piano\, Hammond Orgel und Steel – Gitarre\, Marc Kambach am Schlagzeug und Michael „Blacky“ Schwartz am Bass präsentieren wir eine Kombination aus selbstgeschriebenen Liedern und eigenständig interpretierten Blues- und Rocktiteln.\nPressestimmen„Die Stärke der Crazy Heart Connection liegt klar im Blues\, Bluesrock und ihrer eigenen Interpretation von laszivem amerikanischen Folk und wilden Rock – Titeln“. Die Schaffung eines dichten sounds aus Solo – Sektionen von Gitarre und Piano\, kraftvollen Drums und treibendem Bass erinnert an den Klang bekannter Bands der 1970er Jahre“\, so das Urteil eines Presseartikels aus der Rheinpfalz.\n„Zuweilen klingt die „Crazy Heart Connection“ psychedelisch\, vor allem aber authentisch. Ein Muss für Bluesrockfreunde“\, ist wie die Band in einem rezenten Pressebericht der Rheinpfalzvor ihrem Auftritt auf dem Stadtfest Zweibrücken 2019 beschrieben wurde.*\n„Selten hat man eine so glockenklare Stimme gehört\, die so viel rüberbringt: Daniela Eger beherrscht Klangfülle\, Gefühl und Soul. Überhaupt ist das Spektrum der Crazy Heart Connection beim Rosengarten-Konzert groß“\, urteilte die Rheinpfalz über das Konzert bei „Picknick im Park“ im Rosengarten Zweibrücken. \n  \nAm 05. Juli könnt ihr CRAZY HEART CONNECTION “ LIVE“ auf dem Altstadtfest erleben!  \nMehr Informationen unter: Crazy Heart Connection \n  \n \nAltstadtfest 2025\nWenn die Altstadt zur riesigen Open-Air-Kneipe wird\, ist Feiern angesagt: Neben kulinarischen Spezialitäten gibt es Straßentheater\, Kunsthandwerk und jede Menge Musik auf vielen Live-Bühnen.
URL:https://www.pfalzdigital.de/event/crazy-heart-connection-altstadtfest-3/
LOCATION:Bühne Salzstraße | Klosterstr. 15 | Kaiserslautern\, 67655
CATEGORIES:Altstadtfest
ATTACH;FMTTYPE=image/png:https://www.pfalzdigital.de/wp-content/uploads/2023/06/Event-2023-06-22T133035.362.png
END:VEVENT
BEGIN:VEVENT
DTSTART;TZID=Europe/Berlin:20250705T210000
DTEND;TZID=Europe/Berlin:20250705T230000
DTSTAMP:20260423T045647
CREATED:20250612T062648Z
LAST-MODIFIED:20250612T062648Z
UID:118030-1751749200-1751756400@www.pfalzdigital.de
SUMMARY:Acoustic Fight- AUF DEM ALTSTADTFEST IN KAISERSLAUTERN!
DESCRIPTION:Acoustic Fight – AUF DEM ALTSTADTFEST IN KAISERSLAUTERN!\nAm 05. Juli’ 2024 | von 21:00 Uhr bis 23:00 Uhr  | EINTRITT FREI! \nMit ihrem genialen Mix aus Musik\, Protest und Ironie überzeugen Acoustic Fight nachhaltig ihr Publikum und sorgen so flächendeckend für Bewegung in Kopf und Beinen.\nStilistisch verwurzelt zwischen Rock\, Reggae und Pop machen Pouya Nemati (voc.\, perc.)\, Thomas Burckhardt (guit.\, voc.) und Toni Düll (cajon) Weltmusik im besten Sinne. Der Stil-Mix von Acoustic Fight überzeugt sofort und funktioniert sowohl auf großen Bühnen als auch im kleinen Club. Die Interaktion und der Dialog mit dem Publikum spielen eine zentrale Rolle.\nNeben neuarrangierten Welthits von Bob Marley\, The Police\, Rage Against The Machine oder Tom Waits überraschen die drei Jungs von Acoustic Fight auch immer wieder mit Juwelen aus dem Underground und satirischen Perlen. Keine Chance für schlechte Laune!\nIm Kampf gegen “fiese Schurken“ unterstützen Acoustic Fight mit ihrer Musik weltweit auch immer wieder gerne NGOs\, attac\, Gewerkschaften und ähnliche kritische Organisationen. Don‘t give up the fight! [BOB MARLEY] \nAm 05. Juli könnt ihr Acoustic Fight ” LIVE” auf dem Altstadtfest erleben!  \nMehr Informationen unter: Acoustic Fight \n \nAltstadtfest 2025\nWenn die Altstadt zur riesigen Open-Air-Kneipe wird\, ist Feiern angesagt: Neben kulinarischen Spezialitäten gibt es Straßentheater\, Kunsthandwerk und jede Menge Musik auf vielen Live-Bühnen. \nKaiserslautern\, Altstadtfest.
URL:https://www.pfalzdigital.de/event/acoustic-fight-auf-dem-altstadtfest-in-kaiserslautern/
LOCATION:Bühne Salzstraße | Klosterstr. 15 | Kaiserslautern\, 67655
CATEGORIES:Altstadtfest
ATTACH;FMTTYPE=image/jpeg:https://www.pfalzdigital.de/wp-content/uploads/2025/06/Altstadtfest-2025-.jpg
END:VEVENT
BEGIN:VEVENT
DTSTART;TZID=Europe/Berlin:20250706T123000
DTEND;TZID=Europe/Berlin:20250706T140000
DTSTAMP:20260423T045647
CREATED:20250612T063618Z
LAST-MODIFIED:20250612T063618Z
UID:118034-1751805000-1751810400@www.pfalzdigital.de
SUMMARY:Lisa Marie Weber- AUF DEM ALTSTADTFEST IN KAISERSLAUTERN!
DESCRIPTION:Lisa Marie Weber  – AUF DEM ALTSTADTFEST IN KAISERSLAUTERN!\nAm 06. Juli’ 2025 | von 12:30 Uhr bis 14:00 Uhr  | EINTRITT FREI! \n  \nLisa-Marie und Sebastian verbindet mehr als nur die Musik: Kennengelernt haben sich die beiden Künstler bei einer Inszenierung des Musicals Jesus Christ Superstar. Heute sind sie verheiratet\, Eltern – und als musikalisches Duo auf verschiedensten Bühnen unterwegs. \nSebastian studierte Musik an der Hochschule für Musik in Saarbrücken\, Lisa-Marie erhielt ihre Gesangsausbildung in Hannover. Gemeinsam gestalten sie musikalisch besondere Momente – etwa bei Hochzeiten\, Taufen oder Konzerten. Sebastian ist zudem regelmäßig mit der Big Band der Polizei des Saarlandes sowie dem Silent Explosion Orchestra zu hören. Lisa-Marie arbeitet neben ihrer Tätigkeit als Sängerin auch als freie Rednerin und begleitet emotionale Momente wie Kinderwillkommensfeste\, freie Trauungen und Beerdigungen. \nEin besonderes Faible haben beide für das Genre Musical. In Produktionen wie Der kleine Horrorladen\, Dracula\, Carrie oder Die Päpstin standen sie bereits in Rheinland-Pfalz\, dem Saarland\, Stuttgart und Füssen auf der Bühne. Auch eigene abendfüllende Programme gehören zu ihrem Repertoire\, darunter das Magisch Musikalische Menü in Zusammenarbeit mit dem Zauberkünstler Jakob Mathias oder das unterhaltsame Musical-Dinner Broadway trifft Braten – Das etwas andere Musicaldinner. \nAm 06. Juli könnt ihr Lisa Marie Weber ” LIVE” auf dem Altstadtfest erleben!  \nMehr Informationen unter: Lisa Marie Weber  \n  \n \nAltstadtfest 2025\nWenn die Altstadt zur riesigen Open-Air-Kneipe wird\, ist Feiern angesagt: Neben kulinarischen Spezialitäten gibt es Straßentheater\, Kunsthandwerk und jede Menge Musik auf vielen Live-Bühnen. \nKaiserslautern\, Altstadtfest.
URL:https://www.pfalzdigital.de/event/lisa-marie-weber-auf-dem-altstadtfest-in-kaiserslautern/
LOCATION:Bühne Salzstraße | Klosterstr. 15 | Kaiserslautern\, 67655
CATEGORIES:Altstadtfest
ATTACH;FMTTYPE=image/jpeg:https://www.pfalzdigital.de/wp-content/uploads/2025/06/Altstadtfest-2025-1.jpg
END:VEVENT
BEGIN:VEVENT
DTSTART;TZID=Europe/Berlin:20250706T150000
DTEND;TZID=Europe/Berlin:20250706T170000
DTSTAMP:20260423T045647
CREATED:20250616T080729Z
LAST-MODIFIED:20250616T080729Z
UID:118184-1751814000-1751821200@www.pfalzdigital.de
SUMMARY:CountryToGo - AUF DEM ALTSTADTFEST IN KAISERSLAUTERN!
DESCRIPTION:CountryToGo  – AUF DEM ALTSTADTFEST IN KAISERSLAUTERN!\nAm 06. Juli’ 2025 | von 15:00 Uhr bis 17:00 Uhr  | EINTRITT FREI! \n  \nDer aus Fort Worth; Texas stammende Joe Hawkins und sein Freund Harry Hubrich waren viele Jahre mit der Country Rock Band NightHawk auf den großen Bühnen in Deutschland und Europa unterwegs.\nNach ihrem Aufstieg gewannen sie 2015 den International Country Music Award ; Best Duo und begeisterten als Opener bei Nashville Stars wie Buddy Jewell oder den Bellamy Brothers. Seit 2017 werden Joe (Sänger/Bassist) und Harry (der gleichzeitig Gitarre und Schlagzeug spielt) \,\nvon Pit Trapp\, einem der besten Gitarristen der Szene\, verstärkt.\nOb Country Rock oder eher traditionell ; bei CTG finden sich alle Stile im Programm wieder. Durch ihre Natürlichkeit \, gepaart mit musikalischer Professionalität\,\nzaubern die Cowboys eine unvergleichliche Saloon Atmosphäre von der Bühne.  \nAuthentischer geht Country nicht! \nAm 06. Juli könnt ihr CountryToGo  ” LIVE” auf dem Altstadtfest erleben!  \nMehr Informationen unter: CountryToGo  \n  \n \nAltstadtfest 2025\nWenn die Altstadt zur riesigen Open-Air-Kneipe wird\, ist Feiern angesagt: Neben kulinarischen Spezialitäten gibt es Straßentheater\, Kunsthandwerk und jede Menge Musik auf vielen Live-Bühnen. \nKaiserslautern\, Altstadtfest.
URL:https://www.pfalzdigital.de/event/countrytogo-auf-dem-altstadtfest-in-kaiserslautern/
LOCATION:Bühne Salzstraße | Altstadtfest Kaiserslautern\, Klosterstr. 15\, Kaiserslautern\, 67655
CATEGORIES:Altstadtfest
ATTACH;FMTTYPE=image/jpeg:https://www.pfalzdigital.de/wp-content/uploads/2025/06/Altstadtfest.jpg
END:VEVENT
BEGIN:VEVENT
DTSTART;TZID=Europe/Berlin:20250706T173000
DTEND;TZID=Europe/Berlin:20250706T193000
DTSTAMP:20260423T045647
CREATED:20250612T070657Z
LAST-MODIFIED:20250612T070657Z
UID:118046-1751823000-1751830200@www.pfalzdigital.de
SUMMARY:Steffi & the Backbeats - AUF DEM ALTSTADTFEST IN KAISERSLAUTERN!
DESCRIPTION:Steffi & the Backbeats  – AUF DEM ALTSTADTFEST IN KAISERSLAUTERN!\nAm  Sonntag\, 06. Juli’ 2025 |  von 17:30 Uhr bis  19:30 Uhr | EINTRITT FREI! \nSteffi & the Backbeats \n  \nSteffi & the Backbeats \n…finest handmade cover music!\nMöchte nicht jeder Musiker seine Lieblingsmusik spielen?   Gesucht und gefunden! Die drei Musikanten aus Kaiserslautern kennen sich schon lange aus verschiedenen Bands und haben festgestellt\, dass sie viele gemeinsame „Lieblingssongs“ mit coolen Backbeats haben. \nFür eine private Geburtstagsfeier wurde passende Musik gesucht und „Steffi & the Backbeats“ wurde geboren. Das Repertoire erstreckt sich von der Neuzeit\, Lady Gaga und Adele\, über das Mittelalter\, Sade und The Cure\, bis zur Antike\, Fleetwood Mac und The Beatles. Viele Songs sind originell interpretiert\, und wurden so noch nicht gehört.\nVon traumhaft bis tanzbar ist alles dabei Gesang/Perc. : Stefanie J. Sander\, Git/Ges/Basspedal: Carsten Wick\, Schlagwerk/Ges: Frank Helfer \nAm 06. Juli könnt ihr Steffi & the Backbeats“ LIVE“ auf dem Altstadtfest erleben!  \nMehr Informationen unter: Steffi & the Backbeats \n  \n \nAltstadtfest 2025\nWenn die Altstadt zur riesigen Open-Air-Kneipe wird\, ist Feiern angesagt: Neben kulinarischen Spezialitäten gibt es Straßentheater\, Kunsthandwerk und jede Menge Musik auf vielen Live-Bühnen. \nKaiserslautern\, Altstadtfest. Martnsplatz Konzert Sheerocks. 07.07.2012 Foto: Reiner Voß/view
URL:https://www.pfalzdigital.de/event/steffi-the-backbeats-auf-dem-altstadtfest-in-kaiserslautern-2/
LOCATION:Bühne Salzstraße | Klosterstr. 15 | Kaiserslautern\, 67655
CATEGORIES:Altstadtfest
ATTACH;FMTTYPE=image/jpeg:https://www.pfalzdigital.de/wp-content/uploads/2024/06/Steffi-the-Backbeats-Altstadtfest-2024.jpg
END:VEVENT
BEGIN:VEVENT
DTSTART;TZID=Europe/Berlin:20250706T200000
DTEND;TZID=Europe/Berlin:20250706T220000
DTSTAMP:20260423T045647
CREATED:20250612T071232Z
LAST-MODIFIED:20250612T071232Z
UID:118049-1751832000-1751839200@www.pfalzdigital.de
SUMMARY:Offbeat | Altstadtfest
DESCRIPTION:„OFFBEAT“ AUF DEM ALTSTADTFEST IN KAISERSLAUTERN!\nAm 06. Juli’ 2025 |  von 20:00 bis 22:00 Uhr | EINTRITT FREI! \nBei dieser Band ist der Name nicht Programm\, denn mit ihrer Live-Performance sind sie immer auf dem Punkt! Die fünf aus Ramstein stammende Jungs zeigen mit ihrer Liederauswahl eine große Vielfalt verschiedener Musikrichtungen. \nOb zz Top\, Billy Idol\, Linkin Park oder Eminem\, für jeden ist etwas dabei. Egal ob Stadtfest\, Kerwe oder private Veranstaltung\, überall wird gefeiert und die Bühne gerockt. \nMichael Junker(Gesang)\, Patrick Schmitt (Gitarre)\, Kevin (Gitarre)\, Christopher Rudolphis  (Bass)\, Jens Adler(Schlagzeug) \nWie heißt die Band\, die die Party rockt? Offbeat! \nMehr Infos unter: OFFBEAT \n  \n \nAltstadtfest 2025\nWenn die Altstadt zur riesigen Open-Air-Kneipe wird\, ist Feiern angesagt: Neben kulinarischen Spezialitäten gibt es Straßentheater\, Kunsthandwerk und jede Menge Musik auf vielen Live-Bühnen.
URL:https://www.pfalzdigital.de/event/offbeat-altstadtfest-3/
LOCATION:Bühne Salzstraße | Klosterstr. 15 | Kaiserslautern\, 67655
CATEGORIES:Altstadtfest,Live - Musik
ATTACH;FMTTYPE=image/png:https://www.pfalzdigital.de/wp-content/uploads/2023/06/Event-45.png
END:VEVENT
END:VCALENDAR