BEGIN:VCALENDAR
VERSION:2.0
PRODID:-//Pfalz Digital - ECPv6.15.20//NONSGML v1.0//EN
CALSCALE:GREGORIAN
METHOD:PUBLISH
X-WR-CALNAME:Pfalz Digital
X-ORIGINAL-URL:https://www.pfalzdigital.de
X-WR-CALDESC:Veranstaltungen für Pfalz Digital
REFRESH-INTERVAL;VALUE=DURATION:PT1H
X-Robots-Tag:noindex
X-PUBLISHED-TTL:PT1H
BEGIN:VTIMEZONE
TZID:Europe/Berlin
BEGIN:DAYLIGHT
TZOFFSETFROM:+0100
TZOFFSETTO:+0200
TZNAME:CEST
DTSTART:20230326T010000
END:DAYLIGHT
BEGIN:STANDARD
TZOFFSETFROM:+0200
TZOFFSETTO:+0100
TZNAME:CET
DTSTART:20231029T010000
END:STANDARD
BEGIN:DAYLIGHT
TZOFFSETFROM:+0100
TZOFFSETTO:+0200
TZNAME:CEST
DTSTART:20240331T010000
END:DAYLIGHT
BEGIN:STANDARD
TZOFFSETFROM:+0200
TZOFFSETTO:+0100
TZNAME:CET
DTSTART:20241027T010000
END:STANDARD
BEGIN:DAYLIGHT
TZOFFSETFROM:+0100
TZOFFSETTO:+0200
TZNAME:CEST
DTSTART:20250330T010000
END:DAYLIGHT
BEGIN:STANDARD
TZOFFSETFROM:+0200
TZOFFSETTO:+0100
TZNAME:CET
DTSTART:20251026T010000
END:STANDARD
END:VTIMEZONE
BEGIN:VEVENT
DTSTART;VALUE=DATE:20240705
DTEND;VALUE=DATE:20240706
DTSTAMP:20260424T012813
CREATED:20240409T131316Z
LAST-MODIFIED:20240626T125959Z
UID:75754-1720137600-1720223999@www.pfalzdigital.de
SUMMARY:Altstadtfest
DESCRIPTION:Vom 5. bis 7. Juli bietet das Mega-Event wieder maximales Programm! \n \nVon Rockmusik bis Soul und Blues\, von japanischer Kochkunst bis hin zu Pfälzer Spezialitäten\, von hochwertigen Lederartikeln bis zum individuellen Schmuckstück – auf dem Altstadtfest ist für jeden Geschmack etwas dabei. 150.000 Besucherinnen und Besucher genießen diese bunte Mischung aus Unterhaltung\, Kultur und kulinarischen Köstlichkeiten jedes Jahr im Sommer in der Lautrer Altstadt. \nprogramm_altstadfest_2024_ \n______________________________ \nEintritt Frei!
URL:https://www.pfalzdigital.de/event/altstadtfest-2/
LOCATION:St. Martins Platz – Mainzer Tor / 67655 Kaiserslautern
CATEGORIES:Altstadtfest
ATTACH;FMTTYPE=image/jpeg:https://www.pfalzdigital.de/wp-content/uploads/2024/04/Altstadtfest-2024-Programm.jpg
END:VEVENT
BEGIN:VEVENT
DTSTART;TZID=Europe/Berlin:20240705T190500
DTEND;TZID=Europe/Berlin:20240705T203000
DTSTAMP:20260424T012813
CREATED:20240610T094026Z
LAST-MODIFIED:20240610T101116Z
UID:80761-1720206300-1720211400@www.pfalzdigital.de
SUMMARY:Larry H. Soulman & The Band - AUF DEM ALTSTADTFEST IN KAISERSLAUTERN!
DESCRIPTION:Larry H. Soulman & The Band – AUF DEM ALTSTADTFEST IN KAISERSLAUTERN!\nAm 05. Juli’ 2024 | von 19:05 Uhr bis 20:30 Uhr  | EINTRITT FREI! \n  \n \n  \nWenn Sie die Bedeutung von renaissinace wissen wollen. Larry H. Soulman\, der Pop– Soul–Sänger\, feiert mit seiner Live–Band ein Comeback. Nachdem sowohl seine Frau alsauch sein Manager 2019 an Krebs erkrankten\, haben sich beide von dieser chronischen Krankheit erholt und nun hat Larry H. Soulman ein Comeback geschafft\, indem er von 0–24in den Top 100 Soul Charts in Großbritannien aufstieg. Larrys Song „Life\, Liberty\, Just Us feat. Jay Frog“\, der sich den Konflikten des Mobbing–Bewusstseins stellt\, hat vielRadiounterstützung in Großbritannien\, Kanada\, Frankreich\, der Schweiz und natürlich Deutschland erhalten. Larry ging auch von 0–67 einen anderen Song mit Jay Frog vonDeutschlands Nr. 1 Dance Act Scooter Break It Down produziert\, die auch die US–Pop– Charts auf Platz 21 getroffen.\nLarry wird mit seiner Band seine gefühlvolle Musik präsentieren und ist einer der wenigen amerikanischen Pop–Soul–Sänger\, die deutsch singen. \nAm 05. Juli könnt ihr Larry H. Soulman & The Band ” LIVE” auf dem Altstadtfest erleben!  \nMehr Informationen unter: Larry H. Soulman & The Band \n  \n \nAltstadtfest 2024\nWenn die Altstadt zur riesigen Open-Air-Kneipe wird\, ist Feiern angesagt: Neben kulinarischen Spezialitäten gibt es Straßentheater\, Kunsthandwerk und jede Menge Musik auf vielen Live-Bühnen. \nKaiserslautern\, Altstadtfest.
URL:https://www.pfalzdigital.de/event/larry-h-soulman-the-band-auf-dem-altstadtfest-in-kaiserslautern/
LOCATION:Bühne Salzstraße | Altstadtfest Kaiserslautern\, Klosterstr. 15\, Kaiserslautern\, 67655
CATEGORIES:Altstadtfest
ATTACH;FMTTYPE=image/jpeg:https://www.pfalzdigital.de/wp-content/uploads/2024/06/Atstadtfest-Larry-H.-Soulman-The-Band.jpg
END:VEVENT
BEGIN:VEVENT
DTSTART;TZID=Europe/Berlin:20240705T210000
DTEND;TZID=Europe/Berlin:20240705T230000
DTSTAMP:20260424T012813
CREATED:20240610T082900Z
LAST-MODIFIED:20240610T083728Z
UID:80737-1720213200-1720220400@www.pfalzdigital.de
SUMMARY:LIO | Altstadtfest
DESCRIPTION:„LIO“ – Die Rockband aus Kaiserslautern!  AUF DEM ALTSTADTFEST IN KAISERSLAUTERN!\nAm 05. Juli’ 2024 von 21:00 bis 23:00 Uhr | EINTRITT FREI! \n \nLIO – Die Rockband aus Kaiserslautern! Eine Band die mit Leidenschaft Musik macht. Sie sind die ideale Wahl für Festivals\, Clubs\, Partys und Hochzeiten.\nVerpasst nicht ihre energiegeladene Performance auf dem diesjährigen Altstadtfest. \nMehr Infos unter: LIO  \n  \n \nAltstadtfest 2024\nWenn die Altstadt zur riesigen Open-Air-Kneipe wird\, ist Feiern angesagt: Neben kulinarischen Spezialitäten gibt es Straßentheater\, Kunsthandwerk und jede Menge Musik auf vielen Live-Bühnen. \n\n\n \n\n\n\n  \n 
URL:https://www.pfalzdigital.de/event/lio-altstadtfest-2/
LOCATION:Bühne Salzstraße | Altstadtfest Kaiserslautern\, Klosterstr. 15\, Kaiserslautern\, 67655
CATEGORIES:Altstadtfest,Live - Musik
ATTACH;FMTTYPE=image/png:https://www.pfalzdigital.de/wp-content/uploads/2023/06/Event-15-1.png
END:VEVENT
BEGIN:VEVENT
DTSTART;TZID=Europe/Berlin:20240706T133000
DTEND;TZID=Europe/Berlin:20240706T140000
DTSTAMP:20260424T012813
CREATED:20240611T140647Z
LAST-MODIFIED:20240613T095014Z
UID:80912-1720272600-1720274400@www.pfalzdigital.de
SUMMARY:Sholina - AUF DEM ALTSTADTFEST IN KAISERSLAUTERN!
DESCRIPTION:Sholina – AUF DEM ALTSTADTFEST IN KAISERSLAUTERN!\nAm 06. Juli’ 2024 | von 13:30 Uhr bis 14:00 Uhr  | EINTRITT FREI! \nSholina – \nSholina ist eine talentierte Künstlerin\, die bereits in jungen Jahren ihre Leidenschaft für die Musik entdeckt hat. Mit einer Gitarre in der Hand und einer klaren\, ausdrucksstarken Stimme begann sie ihre musikalische Reise. Schon als Kind war sie von der Musik fasziniert und brachte sich selbst die Grundlagen des Gitarrenspiels bei. Doch ihr Wissensdurst war damit nicht gestillt: Sie nahm sowohl Gesangs- als auch Gitarrenunterricht\, um ihre Fähigkeiten zu verfeinern und ihre Technik zu perfektionieren. \nSHOLINA AUF INSTAGRAM \nAm 06. Juli könnt ihr Sholina ” LIVE” auf dem Altstadtfest erleben!  \n  \n \nAltstadtfest 2024\nWenn die Altstadt zur riesigen Open-Air-Kneipe wird\, ist Feiern angesagt: Neben kulinarischen Spezialitäten gibt es Straßentheater\, Kunsthandwerk und jede Menge Musik auf vielen Live-Bühnen. \nKaiserslautern\, Altstadtfest.
URL:https://www.pfalzdigital.de/event/sholina-auf-dem-altstadtfest-in-kaiserslautern/
LOCATION:Bühne Salzstraße | Altstadtfest Kaiserslautern\, Klosterstr. 15\, Kaiserslautern\, 67655
CATEGORIES:Altstadtfest
ATTACH;FMTTYPE=image/jpeg:https://www.pfalzdigital.de/wp-content/uploads/2024/06/Sholina-Altstadtfest-KL.jpg
END:VEVENT
BEGIN:VEVENT
DTSTART;TZID=Europe/Berlin:20240706T140000
DTEND;TZID=Europe/Berlin:20240706T151500
DTSTAMP:20260424T012813
CREATED:20240610T083259Z
LAST-MODIFIED:20240701T065705Z
UID:80742-1720274400-1720278900@www.pfalzdigital.de
SUMMARY:SCARLETTS MUSIKSCHULE | Altstadtfest
DESCRIPTION:„SCARLETTS MUSIKSCHULE“ AUF DEM ALTSTADTFEST IN KAISERSLAUTERN!\nAm 06. Juli’ 2024 |  von 14:00 bis 15:15 Uhr | EINTRITT FREI! \n– \n– \n– \nScarletts Musikschule ist mehr als nur eine Musikschule  \nEin Treffpunkt für alle Musiker \nHier treffen und verbinden sich Musiker aller Stilrichtungen um gemeinsamen Musik zu machen. \nFreuen Sie sich auf ein unvergessliches musikalisches Erlebnis beim diesjährigen Altstadtfest! Wir werden mit unseren 4 Women\, Scarletts Musikschul-Chor und unserem Gast Max am Schlagzeug für Stimmung sorgen. Die Setliste ist so bunt und vielfältig wie die Musikschule selbst und spiegelt die Diversität und Kreativität unserer Musiker*Innen wieder. \nTauchen Sie ein in eine Klangwelt\, die von bekannten Jazz- und Swing-Melodien bis hin zu energiegeladenen Rock- und Pop-Hits reicht. Lassen Sie sich von den harmonischen Stimmen und mitreißenden Rhythmen verzaubern. Das ein oder andere Lied wird nostalgische Erinnerungen wecken und bei manch einem die 90er Teenager Jahre hervorrufen. \nEgal ob Sie ein Fan der sanften Jazzklänge sind\, die dynamischen Swing-Beats lieben oder sich von den kraftvollen Rock- und Pop-Tönen mitreißen lassen möchten – unser Frauenensemble hat für jeden Musikgeschmack etwas dabei. \nKommen Sie vorbei und genießen Sie die wunderbare Atmosphäre des Altstadtfests\, wo Musik und Gemeinschaft auf einzigartige Weise zusammenkommen. \nMehr Informationen unter: SCARLETTS MUSIKSCHULE \n  \n \nAltstadtfest 2024\nWenn die Altstadt zur riesigen Open-Air-Kneipe wird\, ist Feiern angesagt: Neben kulinarischen Spezialitäten gibt es Straßentheater\, Kunsthandwerk und jede Menge Musik auf vielen Live-Bühnen.
URL:https://www.pfalzdigital.de/event/scarletts-musikschule-altstadtfest/
LOCATION:Bühne Salzstraße | Altstadtfest Kaiserslautern\, Klosterstr. 15\, Kaiserslautern\, 67655
CATEGORIES:Altstadtfest
ATTACH;FMTTYPE=image/jpeg:https://www.pfalzdigital.de/wp-content/uploads/2024/06/Scarlettrs-Musikschule-Altstadtfest-2024.jpg
END:VEVENT
BEGIN:VEVENT
DTSTART;TZID=Europe/Berlin:20240706T150000
DTEND;TZID=Europe/Berlin:20240706T170000
DTSTAMP:20260424T012813
CREATED:20250612T064442Z
LAST-MODIFIED:20250612T064442Z
UID:118038-1720278000-1720285200@www.pfalzdigital.de
SUMMARY:CountryToGo | Altstadtfest 2025
DESCRIPTION:CountryToGo – AUF DEM ALTSTADTFEST IN KAISERSLAUTERN! \nAm 06. Juli’ 2025 |  von 15:00 bis 17:00 Uhr | EINTRITT FREI! \nDer aus Fort Worth; Texas stammende Joe Hawkins und sein Freund Harry Hubrich waren viele Jahre mit der Country Rock Band NightHawk auf den großen Bühnen in Deutschland und Europa unterwegs.\nNach ihrem Aufstieg gewannen sie 2015 den International Country Music Award ; Best Duo und begeisterten als Opener bei Nashville Stars wie Buddy Jewell oder den Bellamy Brothers. Seit 2017 werden Joe (Sänger/Bassist) und Harry (der gleichzeitig Gitarre und Schlagzeug spielt) \,\nvon Pit Trapp\, einem der besten Gitarristen der Szene\, verstärkt.\nOb Country Rock oder eher traditionell ; bei CTG finden sich alle Stile im Programm wieder. Durch ihre Natürlichkeit \, gepaart mit musikalischer Professionalität\,\nzaubern die Cowboys eine unvergleichliche Saloon Atmosphäre von der Bühne.  \nAuthentischer geht Country nicht!  \nKommen Sie vorbei und genießen Sie die wunderbare Atmosphäre des Altstadtfests\, wo Musik und Gemeinschaft auf einzigartige Weise zusammenkommen. \nMehr Informationen unter: CountryToGo \n  \n \nAltstadtfest 2025\nWenn die Altstadt zur riesigen Open-Air-Kneipe wird\, ist Feiern angesagt: Neben kulinarischen Spezialitäten gibt es Straßentheater\, Kunsthandwerk und jede Menge Musik auf vielen Live-Bühnen.
URL:https://www.pfalzdigital.de/event/countrytogo-altstadtfest-2025/
LOCATION:Bühne Salzstraße | Klosterstr. 15 | Kaiserslautern\, 67655
CATEGORIES:Altstadtfest
ATTACH;FMTTYPE=image/jpeg:https://www.pfalzdigital.de/wp-content/uploads/2025/06/Altstadtfest-2025-2.jpg
END:VEVENT
BEGIN:VEVENT
DTSTART;TZID=Europe/Berlin:20240706T160000
DTEND;TZID=Europe/Berlin:20240706T174500
DTSTAMP:20260424T012813
CREATED:20240611T063949Z
LAST-MODIFIED:20240702T110704Z
UID:80853-1720281600-1720287900@www.pfalzdigital.de
SUMMARY:Ann Vriend | Altstadtfest
DESCRIPTION:Ann Vriend – AUF DEM ALTSTADTFEST IN KAISERSLAUTERN!\nAm 06. Juli’ 2024 von 16:00 bis 17:45 Uhr | EINTRITT FREI! \n  \n \nAnn Vriend\, bekannt für ihre beeindruckende stimmliche Vielfalt und ihre mitreißenden Songs\, hat in der internationalen Musikszene bereits viele Lorbeeren geerntet. Ihr eindringlicher Gesang und ihre Songtexte\, die das Leben und die menschlichen Erfahrungen erkunden\, haben sie zu einer gefeierten Künstlerin gemacht. Vriend ist bekannt für ihre Fähigkeit\, das Publikum mit ihrer Präsenz und ihrer außergewöhnlichen Live-Performance zu fesseln. \nBegleitet wird Ann Vriend von Elie Mercier\, einem herausragenden Schlagzeuger\, der durch seine Vielseitigkeit und sein technisches Können beeindruckt. Mercier hat mit einer Reihe von renommierten Künstlern zusammengearbeitet und seine musikalische Bandbreite erstreckt sich über verschiedene Genres\, von Rock bis Jazz\, von Fusion bis Latin. Sein einfühlsames und kreatives Schlagzeugspiel verleiht Ann Vriends Musik eine zusätzliche Dimension. \nVerpasst nicht ihre energiegeladene Performance auf dem diesjährigen Altstadtfest. \nMehr Infos über Ann: ANN VRIEND  \n  \n \nAltstadtfest 2024\nWenn die Altstadt zur riesigen Open-Air-Kneipe wird\, ist Feiern angesagt: Neben kulinarischen Spezialitäten gibt es Straßentheater\, Kunsthandwerk und jede Menge Musik auf vielen Live-Bühnen. \n\n\n \n\n\n\n  \n 
URL:https://www.pfalzdigital.de/event/ann-vriend-and-band-altstadtfest/
LOCATION:Bühne Salzstraße | Altstadtfest Kaiserslautern\, Klosterstr. 15\, Kaiserslautern\, 67655
CATEGORIES:Altstadtfest,Live - Musik
ATTACH;FMTTYPE=image/jpeg:https://www.pfalzdigital.de/wp-content/uploads/2024/06/Ann-Vriend-Altstadtfest.jpg
END:VEVENT
BEGIN:VEVENT
DTSTART;TZID=Europe/Berlin:20240706T210000
DTEND;TZID=Europe/Berlin:20240706T230000
DTSTAMP:20260424T012813
CREATED:20240610T082344Z
LAST-MODIFIED:20240704T121252Z
UID:80732-1720299600-1720306800@www.pfalzdigital.de
SUMMARY:Offbeat | Altstadtfest
DESCRIPTION:„OFFBEAT“ AUF DEM ALTSTADTFEST IN KAISERSLAUTERN!\nAm 06. Juli’ 2024 |  von 21:00 bis 23:00 Uhr | EINTRITT FREI! \nOffbeat | Altstadtfest2023 \nBei dieser Band ist der Name nicht Programm\, denn mit ihrer Live-Performance sind sie immer auf dem Punkt! \nDie fünf aus Ramstein stammende Jungs zeigen mit ihrer Liederauswahl eine große Vielfalt verschiedener Musikrichtungen. Ob ZZ Top\, Billy Idol\, Linkin Park oder Eminem\, für jeden ist etwas dabei. Egal ob Stadtfest\, Kerwe oder private Veranstaltung\, überall wird gefeiert und die Bühne gerockt. \nWie heißt die Band\, die die Party rockt? Offbeat! \nMehr Infos unter: OFFBEAT \n  \n \nAltstadtfest 2024\nWenn die Altstadt zur riesigen Open-Air-Kneipe wird\, ist Feiern angesagt: Neben kulinarischen Spezialitäten gibt es Straßentheater\, Kunsthandwerk und jede Menge Musik auf vielen Live-Bühnen.
URL:https://www.pfalzdigital.de/event/offbeat-altstadtfest-2/
LOCATION:Bühne Salzstraße | Altstadtfest Kaiserslautern\, Klosterstr. 15\, Kaiserslautern\, 67655
CATEGORIES:Altstadtfest,Live - Musik
ATTACH;FMTTYPE=image/png:https://www.pfalzdigital.de/wp-content/uploads/2023/06/Event-45.png
END:VEVENT
BEGIN:VEVENT
DTSTART;TZID=Europe/Berlin:20240707T123000
DTEND;TZID=Europe/Berlin:20240707T140000
DTSTAMP:20260424T012813
CREATED:20240610T103003Z
LAST-MODIFIED:20240610T103003Z
UID:80783-1720355400-1720360800@www.pfalzdigital.de
SUMMARY:mariacoustic - AUF DEM ALTSTADTFEST IN KAISERSLAUTERN!
DESCRIPTION:mariacoustic – AUF DEM ALTSTADTFEST IN KAISERSLAUTERN!\nAm 07. Juli’ 2024 | von 12:30 Uhr bis 14:00 Uhr  | EINTRITT FREI! \n \n\n\n\n\n\nmariacoustic„a blend of pop and soul music“Musikfreunde der akustischen\, authentischen Livemusik\, sollten sich „mariacoustic“ nicht entgehen lassen. Das harmonische Duo\, bestehend aus Maria Ruggiero (Gesang) und Stefan Hauschild(Gitarre)\, bringt ausdrucksvolle\, schwungvolle und auch gefühlvolle Songs der letzten Jahrzehnte auf die Bühne. Dabei ist die Spielfreude und das Brennen für die Musik nicht zu übersehen und zu überhören.Die ausdrucksstarke und warme Stimme von Maria berührt das Herz. Seit über 20 Jahren liebt und lebt die ausgebildete Sängerin jeden Moment an dem Sie Ihre Leidenschaft mit Ihren Zuhörernteilen darf. Von Stefans professionellem Gitarrenspiel wird das ganze Format niveauvoll begleitet. Er bedient sich gekonnt verschiedenster Spieltechniken und bringt somit gezielt leben und Atmosphäre in jeden Song. Zusammen ein musikalischer Genuss\, perfekt zum genießen\, lauschen und relaxen.\n\nAm 07. Juli könnt ihr mariacoustic ” LIVE” auf dem Altstadtfest erleben!  \nMehr Informationen unter: mariacoustic \n\n\n\n\n\n\n\n\n\n\n\n \nAltstadtfest 2024\nWenn die Altstadt zur riesigen Open-Air-Kneipe wird\, ist Feiern angesagt: Neben kulinarischen Spezialitäten gibt es Straßentheater\, Kunsthandwerk und jede Menge Musik auf vielen Live-Bühnen. \nKaiserslautern\, Altstadtfest
URL:https://www.pfalzdigital.de/event/mariacoustic-auf-dem-altstadtfest-in-kaiserslautern/
LOCATION:Bühne Salzstraße | Altstadtfest Kaiserslautern\, Klosterstr. 15\, Kaiserslautern\, 67655
CATEGORIES:Altstadtfest
ATTACH;FMTTYPE=image/jpeg:https://www.pfalzdigital.de/wp-content/uploads/2024/06/Atstadtfest-mariacoustic-.jpg
END:VEVENT
BEGIN:VEVENT
DTSTART;TZID=Europe/Berlin:20240707T150000
DTEND;TZID=Europe/Berlin:20240707T170000
DTSTAMP:20260424T012813
CREATED:20240619T164934Z
LAST-MODIFIED:20240619T164934Z
UID:81594-1720364400-1720371600@www.pfalzdigital.de
SUMMARY:Steffi & the Backbeats - AUF DEM ALTSTADTFEST IN KAISERSLAUTERN!
DESCRIPTION:Steffi & the Backbeats  – AUF DEM ALTSTADTFEST IN KAISERSLAUTERN!\nAm  Sonntag\, 07. Juli’ 2024 |  von 15:00 Uhr bis  17:00 Uhr | EINTRITT FREI! \nSteffi & the Backbeats \n  \nSteffi & the Backbeats…finest handmade cover music \nMöchte nicht jeder Musiker seine Lieblingsmusik spielen? \nGesucht und gefunden! \nDie drei Musikanten aus Kaiserslautern kennen sich schon lange aus verschiedenen Bands und haben festgestellt\, dass sie viele gemeinsame „Lieblingssongs“ mit coolen Backbeats haben. Für eine private Geburtstagsfeier wurde passende Musik gesucht und„Steffi & the Backbeats“ \n„Steffi & the Backbeats“ wurde geboren. \nDas Repertoire erstreckt sich von der Neuzeit\, Lady Gaga und Adele\, über das Mittelalter\, Sade und The Cure\, bis zur Antike\, Fleetwood Mac und The Beatles. Viele Songs sind originell interpretiert\, und wurden so noch nicht gehört. \nAm 07. Juli könnt ihr Steffi & the Backbeats“ LIVE“ auf dem Altstadtfest erleben!  \nMehr Informationen unter: Steffi & the Backbeats \n  \n  \n \nAltstadtfest 2024\nWenn die Altstadt zur riesigen Open-Air-Kneipe wird\, ist Feiern angesagt: Neben kulinarischen Spezialitäten gibt es Straßentheater\, Kunsthandwerk und jede Menge Musik auf vielen Live-Bühnen. \nKaiserslautern\, Altstadtfest. Martnsplatz Konzert Sheerocks. 07.07.2012 Foto: Reiner Voß/view
URL:https://www.pfalzdigital.de/event/steffi-the-backbeats-auf-dem-altstadtfest-in-kaiserslautern/
LOCATION:Bühne Salzstraße | Altstadtfest Kaiserslautern\, Klosterstr. 15\, Kaiserslautern\, 67655
CATEGORIES:Altstadtfest
ATTACH;FMTTYPE=image/jpeg:https://www.pfalzdigital.de/wp-content/uploads/2024/06/Steffi-the-Backbeats-Altstadtfest-2024.jpg
END:VEVENT
BEGIN:VEVENT
DTSTART;TZID=Europe/Berlin:20240707T180000
DTEND;TZID=Europe/Berlin:20240707T193000
DTSTAMP:20260424T012813
CREATED:20240610T091752Z
LAST-MODIFIED:20240610T092024Z
UID:80712-1720375200-1720380600@www.pfalzdigital.de
SUMMARY:BLACK HUBS - AUF DEM ALTSTADTFEST IN KAISERSLAUTERN!
DESCRIPTION: BLACK  HUBS  – AUF DEM ALTSTADTFEST IN KAISERSLAUTERN!\nAm  Sonntag\, 07. Juli’ 2024 |  von 18:00 Uhr bis  19:30 Uhr | EINTRITT FREI! \n \nDie Band „GLÖCKLICH“ wurde im Jahr 2023 gegründet und entspringt dem Solo-Projekt des Singer-Songwriters Michael Glöckner alias „Herr Glocke“. Nach dem vorzeitigen Ausstieg des Bassisten beschlossen Sänger/ Gitarrist Glöckner und Schlagzeuger Manuel Dittrich die Band im Duo mit dem Namen „Black Hubs“ in Anlehnung an die Band „White Stripes“ fortzuführen (daher auch die „verdrehte“ Namensgebung) und konnten in dieser exotischen Formation bereits einige erfolgsversprechende Auftritte (z.B. Old Dublin\, Die Heilsbach\, Motorradclubs) auf die Bühne bringen. Eigene Songs mit deutsch-englischen Texten\, bekannte Covers -zum Teil mit pfälzer Dialekt – sowie Spielfreude und Publikumsnähe stehen für die zwei Rock-Musiker dabei im Vordergrund. Auf ihrem YouTube-Kanal gibt es bereits einige Live-Aufnahmen sowie die Video-Produktion des Songs „Oh wie gern“ zu sehen\, der es auf Anhieb ins Finale eines Songcontests schaffte. Eine Demo-CD mit Studio- und Live-Aufnahmen ist für die wachsende Fangemeinde auch schon im Angebot. \nAm 07. Juli könnt ihr „Black Hubs“ LIVE” auf dem Altstadtfest erleben!  \nMehr Informationen unter: „Black Hubs“ \n  \n \nAltstadtfest 2024\nWenn die Altstadt zur riesigen Open-Air-Kneipe wird\, ist Feiern angesagt: Neben kulinarischen Spezialitäten gibt es Straßentheater\, Kunsthandwerk und jede Menge Musik auf vielen Live-Bühnen. \nKaiserslautern\, Altstadtfest. Martnsplatz Konzert Sheerocks. 07.07.2012 Foto: Reiner Voß/view
URL:https://www.pfalzdigital.de/event/black-hubs-auf-dem-altstadtfest-in-kaiserslautern/
LOCATION:Bühne Salzstraße | Altstadtfest Kaiserslautern\, Klosterstr. 15\, Kaiserslautern\, 67655
CATEGORIES:Altstadtfest
ATTACH;FMTTYPE=image/jpeg:https://www.pfalzdigital.de/wp-content/uploads/2024/06/Atstadtfest-BLACK-HUBS.jpg
END:VEVENT
BEGIN:VEVENT
DTSTART;TZID=Europe/Berlin:20240707T200000
DTEND;TZID=Europe/Berlin:20240707T220000
DTSTAMP:20260424T012813
CREATED:20240610T084859Z
LAST-MODIFIED:20240611T130455Z
UID:80748-1720382400-1720389600@www.pfalzdigital.de
SUMMARY:WORD UP BAND - Janet & Uli | Altstadtfest
DESCRIPTION:„JANET & ULI“ AUF DEM ALTSTADTFEST IN KAISERSLAUTERN!\nAm 07. Juli’ 2024 |  von 20:00 bis 22:00 Uhr | EINTRITT FREI! \nJanet & Uli \nJanet \nUli LauterbachBandleader | Bass Player | Manager \n \nDie aus Baltimore/USA stammende Sängerin Janet Taylor und ihre WORD UP BAND aus Frankfurt / Main / Hessen bietet Ihnen bundes-\, europa- und weltweit professionelles Live-Musik-Entertainment auf höchstem Niveau voller Lebendigkeit und Energie auf immer angenehmen Lautstärkepegel. \nMehr Infos unter: Janet&Uli\n  \nAltstadtfest 2024\nWenn die Altstadt zur riesigen Open-Air-Kneipe wird\, ist Feiern angesagt: Neben kulinarischen Spezialitäten gibt es Straßentheater\, Kunsthandwerk und jede Menge Musik auf vielen Live-Bühnen. \n\n\n \n\n\n\n 
URL:https://www.pfalzdigital.de/event/word-up-band-janet-uli-altstadtfest/
LOCATION:Bühne Salzstraße | Altstadtfest Kaiserslautern\, Klosterstr. 15\, Kaiserslautern\, 67655
CATEGORIES:Altstadtfest,Live - Musik
ATTACH;FMTTYPE=image/jpeg:https://www.pfalzdigital.de/wp-content/uploads/2024/06/Word-Up-Altstadtfest-KL.jpg
END:VEVENT
END:VCALENDAR