BEGIN:VCALENDAR
VERSION:2.0
PRODID:-//Pfalz Digital - ECPv6.15.20//NONSGML v1.0//EN
CALSCALE:GREGORIAN
METHOD:PUBLISH
X-ORIGINAL-URL:https://www.pfalzdigital.de
X-WR-CALDESC:Veranstaltungen für Pfalz Digital
REFRESH-INTERVAL;VALUE=DURATION:PT1H
X-Robots-Tag:noindex
X-PUBLISHED-TTL:PT1H
BEGIN:VTIMEZONE
TZID:Europe/Berlin
BEGIN:DAYLIGHT
TZOFFSETFROM:+0100
TZOFFSETTO:+0200
TZNAME:CEST
DTSTART:20220327T010000
END:DAYLIGHT
BEGIN:STANDARD
TZOFFSETFROM:+0200
TZOFFSETTO:+0100
TZNAME:CET
DTSTART:20221030T010000
END:STANDARD
BEGIN:DAYLIGHT
TZOFFSETFROM:+0100
TZOFFSETTO:+0200
TZNAME:CEST
DTSTART:20230326T010000
END:DAYLIGHT
BEGIN:STANDARD
TZOFFSETFROM:+0200
TZOFFSETTO:+0100
TZNAME:CET
DTSTART:20231029T010000
END:STANDARD
BEGIN:DAYLIGHT
TZOFFSETFROM:+0100
TZOFFSETTO:+0200
TZNAME:CEST
DTSTART:20240331T010000
END:DAYLIGHT
BEGIN:STANDARD
TZOFFSETFROM:+0200
TZOFFSETTO:+0100
TZNAME:CET
DTSTART:20241027T010000
END:STANDARD
END:VTIMEZONE
BEGIN:VEVENT
DTSTART;VALUE=DATE:20230630
DTEND;VALUE=DATE:20230703
DTSTAMP:20260425T010319
CREATED:20230515T081317Z
LAST-MODIFIED:20230515T091202Z
UID:50329-1688083200-1688342399@www.pfalzdigital.de
SUMMARY:Altstadtfest
DESCRIPTION:Vom 30. Juni. bis 2. Juli verwandelt sich die Altstadt von Kaiserslautern drei Tage und zwei Nächte lang in eine riesige Open-Air-Landschaft. \nAltstadtfest Kaiserslautern \nWie immer professionell organisiert vom Citymanagement. Zwischen Martinsplatz und Mainzer Tor wartet ein buntes Programm auf alle Besucherinnen und Besucher\, das seinesgleichen sucht. Auf acht Bühnen wird Musik für fast jeden Geschmack geboten\, egal ob Soul\, Jazz\, Rock oder Pop. Noch beeindruckender ist die Auswahl an Speisen und Getränken sowie an kleinen und großen Dingen\, die das Konsumentenherz höher schlagen lassen. Insgesamt 200 Stände warten darauf\, erkundet zu werden! Zahlreiche Vereine\, Händler und Gastonomen aus der ganzen Region haben sich so einiges ausgedacht\, um ihre Kunden zu erfreuen.\nWieder an Bord ist auch der beliebte Mittelaltermarkt rund um die St. Martinskirche. Wer innerhalb des Trubels des Altstadtfestes in eine eigene Welt der Ritter und Gaukler eintauchen möchte\, ist hier genau richtig. Besonders reizvoll ist der Besuch wieder für kleine Mittelalterfans\, für die im Pfarrgarten ein spezielles Kinderprogramm aufgelegt wird.Wie immer beim Altstadtfest gibt es auch in diesem Jahr so einiges Neues zu entdecken. Erstmals wird der Japanische Garten teilnehmen und einen Bereich in der Unionsstraße gestalten. Am Rittersberg wiederum feiert ein neues Event Premiere\, wenn es heißt „Lautern tanzt“. Alle\, die gerne die Hüften schwingen lassen\, sind hier genau richtig.\nDas komplette Programm inklusive aller Highlights ist ab Mitte Juni auch auf der Homepage der Stadt www.kaiserslautern.de sowie in der Stadt-KL-App einsehbar.\nDie App ist kostenlos für Apple- und Androidsysteme erhältlich und unter dem Schlagwort „Stadt KL“ in den jeweiligen Stores leicht zu finden.
URL:https://www.pfalzdigital.de/event/altstadtfest/
LOCATION:Altstadtfest | Kaiserslautern
CATEGORIES:Altstadtfest
ATTACH;FMTTYPE=image/png:https://www.pfalzdigital.de/wp-content/uploads/2023/05/Ab-in-den-Urlaub-Auch-Katzen-leiden-unter-Trennungsschmerz-12-2.png
END:VEVENT
BEGIN:VEVENT
DTSTART;TZID=Europe/Berlin:20230701T143000
DTEND;TZID=Europe/Berlin:20230701T163000
DTSTAMP:20260425T010319
CREATED:20230616T090332Z
LAST-MODIFIED:20230616T090332Z
UID:53854-1688221800-1688229000@www.pfalzdigital.de
SUMMARY:Rainbow Rocket | Altstadtfest
DESCRIPTION:„Rainbow Rocket“ – AUF DEM ALTSTADTFEST IN KAISERSLAUTERN!\nAm 1. Juli’ 23 von 14:30 bis 16:30 Uhr | EINTRITT FREI!  \n \nRainbow Rocket ist eine Formation\, die alle musikalischen Grenzen sprengt. Das außergewöhnliche Duo\, das alle Stilrichtungen beherrsch! \nMit Manuel Bastian an Gitarre und Gesang sowie Jonas Jenet am Bass und Gesang bieten sie ein breites Repertoire\,\ndas sämtliche Stilrichtungen umfasst. Von Jazz bis Heavy Metal – bei Rainbow Rocket ist alles möglich. \nDie Band hat die Kunst perfektioniert\, verschiedene Genres zu vereinen und dabei ihren einzigartigen Klang zu bewahren.\nEin außergewöhnliches Merkmal von Rainbow Rocket ist die Tatsache\, dass Manuel Bastian das Schlagzeug mit seinen Füßen spielt. \nDiese unkonventionelle Herangehensweise verleiht ihrer Musik eine einzigartige Dynamik und Tiefe\, die das Publikum mitreißen. Dank dieser innovativen Spielweise erzeugen sie den Sound einer vollständigen Band und lassen das Publikum staunen.\nRainbow Rocket ist nicht nur für ihre herausragenden musikalischen Fähigkeiten bekannt\, sondern auch für ihre Interaktion mit dem Publikum. \nDie Band erfüllt gerne spontane Liedwünsche und sorgt somit für eine mitreißende und individuelle Performance\, die jeden Auftritt zu einem\nunvergesslichen Erlebnis macht. Ihre Fähigkeit\, sich schnell auf die Stimmung und Wünsche des Publikums einzustellen\, schafft eine einzigartige Atmosphäre bei ihren Live-Auftritten. Das Duo hat bereits zahlreiche Bühnen erobert und eine treue Fangemeinde aufgebaut. Rainbow\nRocket ist bereit\, neue Herausforderungen anzunehmen und die Welt mit ihrer beeindruckenden musikalischen Vielfalt zu begeistern. Von intimen Clubkonzerten bis hin zu großen Festivalbühnen – Rainbow Rocket ist die perfekte Wahl für musikbegeisterte Zuhörer\, die nach etwas Besonderem suchen. \nLasst euch die mitreißende Performance auf dem diesjährigen Altstadtfest nicht entgehen! \nMehr Informationen unter: Rainbow Rocket \n \nAltstadtfest 2023\nWenn die Altstadt zur riesigen Open-Air-Kneipe wird\, ist Feiern angesagt: Neben kulinarischen Spezialitäten gibt es Straßentheater\, Kunsthandwerk und jede Menge Musik auf vielen Live-Bühnen. \n\n\n \n\nNächster Termin: 30.06.2023 bis 02.07.2023Von Rockmusik bis Soul und Blues\, von japanischer Kochkunst bis hin zu Pfälzer Spezialitäten\, von hochwertigen Lederartikeln bis zum individuellen Schmuckstück – auf dem Altstadtfest ist für jeden Geschmack etwas dabei. 150.000 Besucherinnen und Besucher genießen diese bunte Mischung aus Unterhaltung\, Kultur und kulinarischen Köstlichkeiten jedes Jahr im Sommer in der Lautrer Altstadt. Wie so viele Feste\, musste auch das Altstadtfest von 2019 bis 2022 ruhen. Daher freuen wir uns sehr\, dass das Altstadtfest nach drei Jahren im Corona-Trockendock 2023 wieder in See stechen kann.\n\n\n\n 
URL:https://www.pfalzdigital.de/event/rainbow-rocket-altstadtfest/
LOCATION:Altstadtfest | Kaiserslautern
ATTACH;FMTTYPE=image/png:https://www.pfalzdigital.de/wp-content/uploads/2023/06/Event-77.png
END:VEVENT
BEGIN:VEVENT
DTSTART;TZID=Europe/Berlin:20230701T170000
DTEND;TZID=Europe/Berlin:20230701T193000
DTSTAMP:20260425T010319
CREATED:20230612T141058Z
LAST-MODIFIED:20230612T141058Z
UID:53376-1688230800-1688239800@www.pfalzdigital.de
SUMMARY:CountryToGo  | Altstadtfest
DESCRIPTION:„CountryToGo“  AUF DEM ALTSTADTFEST IN KAISERSLAUTERN!\nAm 1. Juli’ 23 von 17:00 bis 19:30 Uhr | EINTRITT FREI! \nCountryToGo | Altstadtfest 2023 \n \nOb Country-Rock oder eher traditionell\, CountryToGo hat für jeden das richtige Programm. Durch ihre bodenständige\, lockere Art\, gepaart mit Musik.\nMit Professionalität zaubern die Cowboys einen unvergleichlichen Saloon. Mehr Country geht nicht! \nMehr Infos unter: CountryToGo \n  \nAltstadtfest 2023\nWenn die Altstadt zur riesigen Open-Air-Kneipe wird\, ist Feiern angesagt: Neben kulinarischen Spezialitäten gibt es Straßentheater\, Kunsthandwerk und jede Menge Musik auf vielen Live-Bühnen. \n\n\n \n\nNächster Termin: 30.06.2023 bis 02.07.2023Von Rockmusik bis Soul und Blues\, von japanischer Kochkunst bis hin zu Pfälzer Spezialitäten\, von hochwertigen Lederartikeln bis zum individuellen Schmuckstück – auf dem Altstadtfest ist für jeden Geschmack etwas dabei. 150.000 Besucherinnen und Besucher genießen diese bunte Mischung aus Unterhaltung\, Kultur und kulinarischen Köstlichkeiten jedes Jahr im Sommer in der Lautrer Altstadt. Wie so viele Feste\, musste auch das Altstadtfest von 2019 bis 2022 ruhen. Daher freuen wir uns sehr\, dass das Altstadtfest nach drei Jahren im Corona-Trockendock 2023 wieder in See stechen kann.\n\n\n\n 
URL:https://www.pfalzdigital.de/event/countrytogo-altstadtfest/
LOCATION:Altstadtfest | Kaiserslautern
CATEGORIES:Country MusiK
ATTACH;FMTTYPE=image/png:https://www.pfalzdigital.de/wp-content/uploads/2023/06/Event-18.png
END:VEVENT
BEGIN:VEVENT
DTSTART;TZID=Europe/Berlin:20230701T200000
DTEND;TZID=Europe/Berlin:20230701T230000
DTSTAMP:20260425T010319
CREATED:20230613T093632Z
LAST-MODIFIED:20230613T094231Z
UID:53452-1688241600-1688252400@www.pfalzdigital.de
SUMMARY:LIO | Altstadtfest
DESCRIPTION:„LIO“ – Die Rockband aus Kaiserslautern!  AUF DEM ALTSTADTFEST IN KAISERSLAUTERN!\nAm 1. Juli’ 23 von 20:00 bis 23:00 Uhr | EINTRITT FREI! \n \nLIO – Die Rockband aus Kaiserslautern! Eine Band die mit Leidenschaft Musik macht. Sie sind die ideale Wahl für Festivals\, Clubs\, Partys und Hochzeiten.\nVerpasst nicht ihre energiegeladene Performance auf dem diesjährigen Altstadtfest. \nMehr Infos unter: LIO  \n  \n \nAltstadtfest 2023\nWenn die Altstadt zur riesigen Open-Air-Kneipe wird\, ist Feiern angesagt: Neben kulinarischen Spezialitäten gibt es Straßentheater\, Kunsthandwerk und jede Menge Musik auf vielen Live-Bühnen. \n\n\n \n\nNächster Termin: 30.06.2023 bis 02.07.2023Von Rockmusik bis Soul und Blues\, von japanischer Kochkunst bis hin zu Pfälzer Spezialitäten\, von hochwertigen Lederartikeln bis zum individuellen Schmuckstück – auf dem Altstadtfest ist für jeden Geschmack etwas dabei. 150.000 Besucherinnen und Besucher genießen diese bunte Mischung aus Unterhaltung\, Kultur und kulinarischen Köstlichkeiten jedes Jahr im Sommer in der Lautrer Altstadt. Wie so viele Feste\, musste auch das Altstadtfest von 2019 bis 2022 ruhen. Daher freuen wir uns sehr\, dass das Altstadtfest nach drei Jahren im Corona-Trockendock 2023 wieder in See stechen kann.\n\n\n\n  \n 
URL:https://www.pfalzdigital.de/event/lio-altstadtfest/
LOCATION:Altstadtfest | Kaiserslautern
CATEGORIES:Altstadtfest,Live - Musik
ATTACH;FMTTYPE=image/png:https://www.pfalzdigital.de/wp-content/uploads/2023/06/Event-15-1.png
END:VEVENT
BEGIN:VEVENT
DTSTART;TZID=Europe/Berlin:20230702T120000
DTEND;TZID=Europe/Berlin:20230702T133000
DTSTAMP:20260425T010319
CREATED:20230615T121605Z
LAST-MODIFIED:20230622T110935Z
UID:53764-1688299200-1688304600@www.pfalzdigital.de
SUMMARY:SCARLETTS MUSIKSCHULE | Altstadtfest
DESCRIPTION:„SCARLETTS MUSIKSCHULE“ AUF DEM ALTSTADTFEST IN KAISERSLAUTERN!\nAm 2. Juli’ 23 von 12:00 bis 13:30 Uhr | EINTRITT FREI! \nScarletts Musikschule \nScarletts Musikschule ist mehr als nur eine Musikschule  \n           Ein Treffpunkt für alle Musiker \nHier treffen und verbinden sich Musiker aller Stilrichtungen um gemeinsamen Musik zu machen. \nIn unterschiedlichen Besetzungen traten sie bereits auf Veranstaltungen wie Hochzeiten und anderen Feierlichkeiten auf. \nAn diesem Tag werden Mitglieder aus dem ehrenamtlichen Chor und weitere Duo und Trio Besetzungen zu hören sein. \nWie die Musiker selbst\, wird es ein facettenreiches Programm geben. Von ganz eigenen einfühlsamen Interpretationen bekannter Songs\, über Musical Songs aus The Greatest Showman\, bis hin zu Coversongs von Coldplay und vielen anderen populären Künstlern. \nMehr Informationen unter: SCARLETTS MUSIKSCHULE \n  \n \nAltstadtfest 2023\nWenn die Altstadt zur riesigen Open-Air-Kneipe wird\, ist Feiern angesagt: Neben kulinarischen Spezialitäten gibt es Straßentheater\, Kunsthandwerk und jede Menge Musik auf vielen Live-Bühnen. \n\n\n \n\nNächster Termin: 30.06.2023 bis 02.07.2023Von Rockmusik bis Soul und Blues\, von japanischer Kochkunst bis hin zu Pfälzer Spezialitäten\, von hochwertigen Lederartikeln bis zum individuellen Schmuckstück – auf dem Altstadtfest ist für jeden Geschmack etwas dabei. 150.000 Besucherinnen und Besucher genießen diese bunte Mischung aus Unterhaltung\, Kultur und kulinarischen Köstlichkeiten jedes Jahr im Sommer in der Lautrer Altstadt. Wie so viele Feste\, musste auch das Altstadtfest von 2019 bis 2022 ruhen. Daher freuen wir uns sehr\, dass das Altstadtfest nach drei Jahren im Corona-Trockendock 2023 wieder in See stechen kann.
URL:https://www.pfalzdigital.de/event/53764/
LOCATION:Altstadtfest | Kaiserslautern
CATEGORIES:Altstadtfest
ATTACH;FMTTYPE=image/png:https://www.pfalzdigital.de/wp-content/uploads/2023/06/Event-62.png
END:VEVENT
BEGIN:VEVENT
DTSTART;TZID=Europe/Berlin:20230702T140000
DTEND;TZID=Europe/Berlin:20230702T160000
DTSTAMP:20260425T010319
CREATED:20230612T131901Z
LAST-MODIFIED:20230612T133321Z
UID:53367-1688306400-1688313600@www.pfalzdigital.de
SUMMARY:Steffi & The Backbeats | Altstadtfest
DESCRIPTION:„STEFFI & THE BACKBEATS“ AUF DEM ALTSTADTFEST IN KAISERSLAUTERN!\nAm 2. Juli‘ 23 von 14:00 bis 16:00 Uhr | EINTRITT FREI! \n..mit dabei sind Steffi & The Backbeats! \n\n| Steffi & The Backbeat  Altstadtfest KL \n \nDie drei Musikanten aus Kaiserslautern kennen sich schon lange aus verschiedenen Bands und haben festgestellt\, dass sie viele gemeinsame „Lieblingssongs“ mit coolen Backbeats haben. \n\nDas Repertoire erstreckt sich von der Neuzeit\, Lady Gaga und Adele\, über das Mittelalter\, Sade und The Cure\, bis zur Antike\, Fleetwood Mac und The Beatles. \nViele Songs sind originell interpretiert\, und wurden so noch nicht gehört.\nMehr Infos unter: STEFFI&THEBACKBEATS \n  \nAltstadtfest 2023\nWenn die Altstadt zur riesigen Open-Air-Kneipe wird\, ist Feiern angesagt: Neben kulinarischen Spezialitäten gibt es Straßentheater\, Kunsthandwerk und jede Menge Musik auf vielen Live-Bühnen. \n\n\n \n\nNächster Termin: 30.06.2023 bis 02.07.2023Von Rockmusik bis Soul und Blues\, von japanischer Kochkunst bis hin zu Pfälzer Spezialitäten\, von hochwertigen Lederartikeln bis zum individuellen Schmuckstück – auf dem Altstadtfest ist für jeden Geschmack etwas dabei. 150.000 Besucherinnen und Besucher genießen diese bunte Mischung aus Unterhaltung\, Kultur und kulinarischen Köstlichkeiten jedes Jahr im Sommer in der Lautrer Altstadt. Wie so viele Feste\, musste auch das Altstadtfest von 2019 bis 2022 ruhen. Daher freuen wir uns sehr\, dass das Altstadtfest nach drei Jahren im Corona-Trockendock 2023 wieder in See stechen kann. \n\n\n\n\n  \n  \n 
URL:https://www.pfalzdigital.de/event/altstadtfest-steffi-the-backbeats/
LOCATION:Altstadtfest | Kaiserslautern
CATEGORIES:Altstadtfest
ATTACH;FMTTYPE=image/png:https://www.pfalzdigital.de/wp-content/uploads/2023/06/Event-17.png
END:VEVENT
BEGIN:VEVENT
DTSTART;TZID=Europe/Berlin:20230702T163000
DTEND;TZID=Europe/Berlin:20230702T183000
DTSTAMP:20260425T010319
CREATED:20230622T113245Z
LAST-MODIFIED:20230622T113245Z
UID:54367-1688315400-1688322600@www.pfalzdigital.de
SUMMARY:Crazy Heart Connection | Altstadtfest
DESCRIPTION:„CRAZY HEART CONNECTION“ AUF DEM ALTSTADTFEST IN KAISERSLAUTERN!\nAm 2. Juli’ 23 von 16:30 bis 18:30 Uhr | EINTRITT FREI! \nCrazy Heart Connection \nCrazy Heart Connection – Creative Blues & Roots Music \nDie Crazy Heart Connection steht für eigene\, authentische Blues & Roots Musik und betrachtet Musik als kreativ\, lebendigen Prozess mit ausrechend Raum für Improvitivisation und Spontaneität. \nAm 2. Juli könnt ihr CRAZY HEART CONNECTION “ LIVE“ auf dem Altstadtfest erleben!  \nMehr Informationen unter: Crazy Heart Connection \n  \n \nAltstadtfest 2023\nWenn die Altstadt zur riesigen Open-Air-Kneipe wird\, ist Feiern angesagt: Neben kulinarischen Spezialitäten gibt es Straßentheater\, Kunsthandwerk und jede Menge Musik auf vielen Live-Bühnen. \n\n\n \n\nNächster Termin: 30.06.2023 bis 02.07.2023Von Rockmusik bis Soul und Blues\, von japanischer Kochkunst bis hin zu Pfälzer Spezialitäten\, von hochwertigen Lederartikeln bis zum individuellen Schmuckstück – auf dem Altstadtfest ist für jeden Geschmack etwas dabei. 150.000 Besucherinnen und Besucher genießen diese bunte Mischung aus Unterhaltung\, Kultur und kulinarischen Köstlichkeiten jedes Jahr im Sommer in der Lautrer Altstadt. Wie so viele Feste\, musste auch das Altstadtfest von 2019 bis 2022 ruhen. Daher freuen wir uns sehr\, dass das Altstadtfest nach drei Jahren im Corona-Trockendock 2023 wieder in See stechen kann.
URL:https://www.pfalzdigital.de/event/crazy-heart-connection-altstadtfest/
LOCATION:Altstadtfest | Kaiserslautern
CATEGORIES:Altstadtfest
ATTACH;FMTTYPE=image/png:https://www.pfalzdigital.de/wp-content/uploads/2023/06/Event-2023-06-22T133035.362.png
END:VEVENT
BEGIN:VEVENT
DTSTART;TZID=Europe/Berlin:20230702T190000
DTEND;TZID=Europe/Berlin:20230702T220000
DTSTAMP:20260425T010319
CREATED:20230613T083713Z
LAST-MODIFIED:20230622T122136Z
UID:53444-1688324400-1688335200@www.pfalzdigital.de
SUMMARY:WORD UP BAND - Janet & Uli | Altstadtfest
DESCRIPTION:„JANET & ULI“ AUF DEM ALTSTADTFEST IN KAISERSLAUTERN!\nAm 2. Juli’ 23 von 19:00 bis 22:00 Uhr | EINTRITT FREI! \nJanet & Uli \nJanet \nUli LauterbachBandleader | Bass Player | Manager \n \nDie aus Baltimore/USA stammende Sängerin Janet Taylor und ihre WORD UP BAND aus Frankfurt / Main / Hessen bietet Ihnen bundes-\, europa- und weltweit professionelles Live-Musik-Entertainment auf höchstem Niveau voller Lebendigkeit und Energie auf immer angenehmen Lautstärkepegel. \nMehr Infos unter: Janet&Uli\n  \nAltstadtfest 2023\nWenn die Altstadt zur riesigen Open-Air-Kneipe wird\, ist Feiern angesagt: Neben kulinarischen Spezialitäten gibt es Straßentheater\, Kunsthandwerk und jede Menge Musik auf vielen Live-Bühnen. \n\n\n \n\nNächster Termin: 30.06.2023 bis 02.07.2023Von Rockmusik bis Soul und Blues\, von japanischer Kochkunst bis hin zu Pfälzer Spezialitäten\, von hochwertigen Lederartikeln bis zum individuellen Schmuckstück – auf dem Altstadtfest ist für jeden Geschmack etwas dabei. 150.000 Besucherinnen und Besucher genießen diese bunte Mischung aus Unterhaltung\, Kultur und kulinarischen Köstlichkeiten jedes Jahr im Sommer in der Lautrer Altstadt. Wie so viele Feste\, musste auch das Altstadtfest von 2019 bis 2022 ruhen. Daher freuen wir uns sehr\, dass das Altstadtfest nach drei Jahren im Corona-Trockendock 2023 wieder in See stechen kann.\n\n\n\n 
URL:https://www.pfalzdigital.de/event/janet-uli-altstadtfest/
LOCATION:Altstadtfest | Kaiserslautern
CATEGORIES:Altstadtfest,Live - Musik
ATTACH;FMTTYPE=image/png:https://www.pfalzdigital.de/wp-content/uploads/2023/06/Event-2023-06-22T141951.920.png
END:VEVENT
BEGIN:VEVENT
DTSTART;VALUE=DATE:20230707
DTEND;VALUE=DATE:20230710
DTSTAMP:20260425T010319
CREATED:20230621T104816Z
LAST-MODIFIED:20230621T104816Z
UID:54291-1688688000-1688947199@www.pfalzdigital.de
SUMMARY:Landauer Sommer |  Altstadtfest
DESCRIPTION:„ALTSTADTFEST“ LAUNDAUER SOMMER! \nLandauer Sommer Altstadtfest \nLandauer_Sommer_bei_Nacht \n  \nDie Klangfarben einer Stadt. Musik & Wein\, Gefühl & Genuss! Untrennbar miteinander verbunden.Beim Landauer Sommer singt und tanzt die ganze Stadt.Ein lauer Sommerabend unter freiem Himmel\, untermalt von temperamentvoller Musik\, das bedeutet Südpfälzer Lebensqualität.Auf 5 Bühnen in der Landauer Innenstadt ist für jeden Musikgeschmack etwas geboten.Vom 7. bis 09. Juli 2023 verwandelt sich Landau zur größten Partymeile der Südpfalz.Wir feiern ein Musikfestival der ganz besonderen Art. Das malerische Ambiente der historischen Altstadt kombiniert mit den Klangfarben der Region. Der Soundtrack unserer Stadt\, begleitet vom fröhlichen Klingen der mit Pfälzer Wein gefüllten Gläser oder einem kühlen Bier – die Verkörperung des Landauer Lebensgefühl. \nHier alle Informationen zum LANDAUER SOMMER
URL:https://www.pfalzdigital.de/event/landauer-sommer-altstadtfest/
LOCATION:Innenstadt | Landau
CATEGORIES:Altstadtfest
ATTACH;FMTTYPE=image/png:https://www.pfalzdigital.de/wp-content/uploads/2023/06/Event-100.png
END:VEVENT
END:VCALENDAR